BEGIN:VCALENDAR
VERSION:2.0
PRODID:-//L&#039;Autre Lieu - ECPv6.15.20//NONSGML v1.0//EN
CALSCALE:GREGORIAN
METHOD:PUBLISH
X-WR-CALNAME:L&#039;Autre Lieu
X-ORIGINAL-URL:https://www.lautre-lieu.fr
X-WR-CALDESC:Évènements pour L&#039;Autre Lieu
REFRESH-INTERVAL;VALUE=DURATION:PT1H
X-Robots-Tag:noindex
X-PUBLISHED-TTL:PT1H
BEGIN:VTIMEZONE
TZID:Europe/Paris
BEGIN:DAYLIGHT
TZOFFSETFROM:+0100
TZOFFSETTO:+0200
TZNAME:CEST
DTSTART:20250330T010000
END:DAYLIGHT
BEGIN:STANDARD
TZOFFSETFROM:+0200
TZOFFSETTO:+0100
TZNAME:CET
DTSTART:20251026T010000
END:STANDARD
BEGIN:DAYLIGHT
TZOFFSETFROM:+0100
TZOFFSETTO:+0200
TZNAME:CEST
DTSTART:20260329T010000
END:DAYLIGHT
BEGIN:STANDARD
TZOFFSETFROM:+0200
TZOFFSETTO:+0100
TZNAME:CET
DTSTART:20261025T010000
END:STANDARD
BEGIN:DAYLIGHT
TZOFFSETFROM:+0100
TZOFFSETTO:+0200
TZNAME:CEST
DTSTART:20270328T010000
END:DAYLIGHT
BEGIN:STANDARD
TZOFFSETFROM:+0200
TZOFFSETTO:+0100
TZNAME:CET
DTSTART:20271031T010000
END:STANDARD
END:VTIMEZONE
BEGIN:VEVENT
DTSTART;TZID=Europe/Paris:20260407T093000
DTEND;TZID=Europe/Paris:20260430T173000
DTSTAMP:20260421T235810
CREATED:20260312T093404Z
LAST-MODIFIED:20260318T101839Z
UID:7454-1775554200-1777570200@www.lautre-lieu.fr
SUMMARY:EXPO - La Hague par Studio Lunaire
DESCRIPTION:🗓️ À vos agendas ! Vous êtes les bienvenues du 7 au 30 avril pour venir admirer l’exposition “La Hague” par Loreleï du Studio Lunaire dans le bar de L’Autre Lieu\, dans l’Espace René Le Bas à Cherbourg-en-Cotentin ! \nCette exposition sillonne l’Ouest Cotentin et St Vaast\, se frayant un chemin entre les embruns et les herbes folles. Dans ce coin balayé par la pluie et les vents\, les paysages changent au gré de cette météo. \n  \nCrédits photographiques ©studiolunaire \n  \n⏰ Du lundi au jeudi de 9h30-17h30 // Vendredi de 19h à 00h – hors week-end \n🎟️ Entrée libre \n📍Bar de L’Autre Lieu\, Espace René Le Bas (dans l’ancien hôpital maritime) – 61 Rue de l’Abbaye – Cherbourg-en-Cotentin \n📣 Organisé par L’Autre Lieu
URL:https://www.lautre-lieu.fr/event/expo-la-hague-par-studio-lunaire-bar-de-lautre-lieu/
LOCATION:Bar – L’Autre Lieu\, 61 rue de l'Abbaye\, Cherbourg-en-Cotentin\, 50100\, France
ATTACH;FMTTYPE=image/png:https://www.lautre-lieu.fr/wp-content/uploads/2026/03/COUVERTURE-FB-Events-3.png
END:VEVENT
BEGIN:VEVENT
DTSTART;TZID=Europe/Paris:20260420T140000
DTEND;TZID=Europe/Paris:20260424T170000
DTSTAMP:20260421T235810
CREATED:20260408T113714Z
LAST-MODIFIED:20260408T113714Z
UID:7514-1776693600-1777050000@www.lautre-lieu.fr
SUMMARY:ATELIERS GRAFF – Avec Emo (Ronan – Crème Fresh Crew)
DESCRIPTION:🗓️ Nous vous donnons rendez-vous du lundi 20 au vendredi 24 avril de 14h à 17h pour des ateliers avec Ronan alias Emo\, dans la cour du bar de L’Autre Lieu\, si la météo le permet\, dans l’Espace René Le Bas à Cherbourg-en-Cotentin !  \n  \n“Je suis Ronan\, alias Emo.\nGraffeur depuis plus de 20 ans\, je suis profondément ancré dans la culture pop et l’univers du graffiti. Mon parcours m’a également conduit à devenir animateur socioculturel\, un domaine dans lequel j’évolue depuis deux décennies. \nAu fil des années\, j’ai développé des ateliers pédagogiques autour de la maîtrise de la bombe de peinture et du custom de tout type d’objet. Pour moi\, le graff est bien plus qu’une pratique artistique : c’est un moyen d’expression puissant\, accessible à tous\, et un formidable outil de création de lien social\, capable de fédérer\, de valoriser et d’ouvrir la voie à de nouvelles formes de créativité.” \n  \nArtiste : ©Emo \nLien des réseaux sociaux du festival : @creme_fresh_crew \n \n⏰ Du lundi au vendredi de 14h à 17h \n🎟️ Tarif plein : 70 € la demi-journée / 2 demi-journées : 120 € / 3 demi-journées : 150 € / 5 demi-journées : 200 € \nMaximum de participants : 8 participants par ateliers \n🔗 Réservation auprès de l’artiste : bonronan6@gmail.com  \n📍Cour du bar de L’Autre Lieu\, Espace René Le Bas (dans l’ancien hôpital maritime) – 61 Rue de l’Abbaye – Cherbourg-en-Cotentin \n📣 Organisé par le collectif Crème Fresh et L’Autre Lieu  \nℹ️ Lien de l’événement : https://fb.me/e/49c90tVZZ
URL:https://www.lautre-lieu.fr/event/ateliers-graff-avec-emo-ronan-creme-fresh-crew/
LOCATION:Cour du bar – L’Autre Lieu
ATTACH;FMTTYPE=image/png:https://www.lautre-lieu.fr/wp-content/uploads/2026/04/COUVERTURE-FB-Events-2.png
END:VEVENT
END:VCALENDAR